BEGIN:VCALENDAR
VERSION:2.0
METHOD:PUBLISH
PRODID:-//Accessible Web Design//My Calendar//http://www.joedolson.com//v//EN';
BEGIN:VEVENT
UID:3-3
LOCATION:Kulturfabrik e.V. Braugasse 1  Hoyerswerda Sachsen 02977
SUMMARY:Spurensuche: Dock 28 e.V.
DTSTAMP:20230331
ORGANIZER;CN=admin:MAILTO:86glomb@gmail.com
DTSTART:20230331
DTEND:20230401
CATEGORIES:General
URL;VALUE=URI:https://www.kufa-hoyerswerda.de/spurensuche-dock-28-e-v.html
DESCRIPTION;ENCODING=QUOTED-PRINTABLE:Das Spurensucher-Team (Leitung Ina Züchner) machte sich diesmal auf die Suche nach dem letzten selbstverwalteten Jugendclub unserer Stadt, dem legendären Dock 28 im Keller des ehemaligen Vereinshauses. https://www.kufa-hoyerswerda.de/spurensuche-dock-28-e-v.html
X-FUNAMBOL-ALLDAY: 1
X-MICROSOFT-CDO-ALLDAYEVENT: TRUE

END:VEVENT
END:VCALENDAR