BEGIN:VCALENDAR
VERSION:2.0
METHOD:PUBLISH
PRODID:-//Accessible Web Design//My Calendar//http://www.joedolson.com//v//EN';
BEGIN:VEVENT
UID:2-2
LOCATION:Elbwiese Elberadweg  Dresden Sachsen 01127
SUMMARY:Elbwiesenreinigung
DTSTAMP:20230401T090000
ORGANIZER;CN=admin:MAILTO:86glomb@gmail.com
DTSTART:20230401T090000
DTEND:20230401T120000
CATEGORIES:General
URL;VALUE=URI:https://www.dresden.de/de/rathaus/aktuelles/pressemitteilungen/2023/02/pm_024.php
DESCRIPTION;ENCODING=QUOTED-PRINTABLE:Große Fressaktion der Saurier an der Elbwiese (Und ganz nebenbei wird die Elbwiese wieder sauberer) https://www.dresden.de/de/rathaus/aktuelles/pressemitteilungen/2023/02/pm_024.php
END:VEVENT
END:VCALENDAR